Package: twoddpcr Version: 1.31.0 Command: E:\biocbuild\bbs-3.21-bioc\R\bin\R.exe CMD check --no-multiarch --install=check:twoddpcr.install-out.txt --library=E:\biocbuild\bbs-3.21-bioc\R\library --no-vignettes --timings twoddpcr_1.31.0.tar.gz StartedAt: 2025-02-10 06:25:47 -0500 (Mon, 10 Feb 2025) EndedAt: 2025-02-10 06:28:20 -0500 (Mon, 10 Feb 2025) EllapsedTime: 153.5 seconds RetCode: 0 Status: OK CheckDir: twoddpcr.Rcheck Warnings: 0