Package: txcutr Version: 1.13.0 Command: /Library/Frameworks/R.framework/Resources/bin/R CMD INSTALL txcutr StartedAt: 2025-02-04 15:14:03 -0500 (Tue, 04 Feb 2025) EndedAt: 2025-02-04 15:14:18 -0500 (Tue, 04 Feb 2025) EllapsedTime: 14.7 seconds RetCode: 0 Status: OK