Package: txcutr Version: 1.13.0 Command: /home/biocbuild/R/R/bin/R CMD INSTALL txcutr StartedAt: 2025-01-29 20:03:06 -0000 (Wed, 29 Jan 2025) EndedAt: 2025-01-29 20:03:57 -0000 (Wed, 29 Jan 2025) EllapsedTime: 50.3 seconds RetCode: 0 Status: OK