Package: txcutr Version: 1.13.0 Command: rm -rf txcutr.buildbin-libdir && mkdir txcutr.buildbin-libdir && /Users/biocbuild/BBS/utils/build-universal.sh txcutr_1.13.0.tar.gz /Library/Frameworks/R.framework/Resources/bin/R txcutr.buildbin-libdir StartedAt: 2025-02-10 01:21:40 -0500 (Mon, 10 Feb 2025) EndedAt: 2025-02-10 01:22:33 -0500 (Mon, 10 Feb 2025) EllapsedTime: 52.5 seconds RetCode: 0 Status: OK PackageFile: txcutr_1.13.0.tgz PackageFileSize: 346.2 KiB