Package: txcutr Version: 1.13.0 Command: /Library/Frameworks/R.framework/Resources/bin/R CMD check --install=check:txcutr.install-out.txt --library=/Library/Frameworks/R.framework/Resources/library --no-vignettes --timings txcutr_1.13.0.tar.gz StartedAt: 2025-02-10 00:16:35 -0500 (Mon, 10 Feb 2025) EndedAt: 2025-02-10 00:24:52 -0500 (Mon, 10 Feb 2025) EllapsedTime: 497.1 seconds RetCode: 0 Status: OK CheckDir: txcutr.Rcheck Warnings: 0