Package: txcutr Version: 1.13.0 Command: /Library/Frameworks/R.framework/Resources/bin/R CMD INSTALL txcutr StartedAt: 2025-02-09 15:20:36 -0500 (Sun, 09 Feb 2025) EndedAt: 2025-02-09 15:21:25 -0500 (Sun, 09 Feb 2025) EllapsedTime: 49.6 seconds RetCode: 0 Status: OK