Package: txcutr Version: 1.13.0 Command: rm -rf txcutr.buildbin-libdir && mkdir txcutr.buildbin-libdir && E:\biocbuild\bbs-3.21-bioc\R\bin\R.exe CMD INSTALL --build --library=txcutr.buildbin-libdir txcutr_1.13.0.tar.gz StartedAt: 2025-02-10 08:55:12 -0500 (Mon, 10 Feb 2025) EndedAt: 2025-02-10 08:56:00 -0500 (Mon, 10 Feb 2025) EllapsedTime: 47.9 seconds RetCode: 0 Status: OK PackageFile: txcutr_1.13.0.zip PackageFileSize: 349.5 KiB