Package: tximeta Version: 1.25.2 Command: /Library/Frameworks/R.framework/Resources/bin/R CMD check --install=check:tximeta.install-out.txt --library=/Library/Frameworks/R.framework/Resources/library --no-vignettes --timings tximeta_1.25.2.tar.gz StartedAt: 2025-02-10 00:16:50 -0500 (Mon, 10 Feb 2025) EndedAt: 2025-02-10 00:23:16 -0500 (Mon, 10 Feb 2025) EllapsedTime: 385.5 seconds RetCode: 0 Status: OK CheckDir: tximeta.Rcheck Warnings: 0