Package: tximeta Version: 1.25.2 Command: rm -rf tximeta.buildbin-libdir && mkdir tximeta.buildbin-libdir && E:\biocbuild\bbs-3.21-bioc\R\bin\R.exe CMD INSTALL --build --library=tximeta.buildbin-libdir tximeta_1.25.2.tar.gz StartedAt: 2025-02-10 08:55:19 -0500 (Mon, 10 Feb 2025) EndedAt: 2025-02-10 08:56:04 -0500 (Mon, 10 Feb 2025) EllapsedTime: 45.5 seconds RetCode: 0 Status: OK PackageFile: tximeta_1.25.2.zip PackageFileSize: 1.103 MiB