Package: uSORT Version: 1.33.0 Command: /Library/Frameworks/R.framework/Resources/bin/R CMD INSTALL uSORT StartedAt: 2025-02-09 15:05:59 -0500 (Sun, 09 Feb 2025) EndedAt: 2025-02-09 15:06:11 -0500 (Sun, 09 Feb 2025) EllapsedTime: 11.7 seconds RetCode: 0 Status: OK