Package: uSORT Version: 1.33.0 Command: /Library/Frameworks/R.framework/Resources/bin/R CMD build --keep-empty-dirs --no-resave-data uSORT StartedAt: 2025-02-12 18:39:41 -0500 (Wed, 12 Feb 2025) EndedAt: 2025-02-12 18:40:24 -0500 (Wed, 12 Feb 2025) EllapsedTime: 43.4 seconds RetCode: 0 Status: OK PackageFile: uSORT_1.33.0.tar.gz PackageFileSize: 2.814 MiB