Package: uSORT Version: 1.33.0 Command: /Library/Frameworks/R.framework/Resources/bin/R CMD check --install=check:uSORT.install-out.txt --library=/Library/Frameworks/R.framework/Resources/library --no-vignettes --timings uSORT_1.33.0.tar.gz StartedAt: 2025-02-13 00:02:26 -0500 (Thu, 13 Feb 2025) EndedAt: 2025-02-13 00:06:27 -0500 (Thu, 13 Feb 2025) EllapsedTime: 241.3 seconds RetCode: 0 Status: WARNINGS CheckDir: uSORT.Rcheck Warnings: 1