Package: uSORT Version: 1.33.0 Command: /home/biocbuild/bbs-3.21-bioc/R/bin/R CMD build --keep-empty-dirs --no-resave-data uSORT StartedAt: 2025-02-09 19:42:31 -0500 (Sun, 09 Feb 2025) EndedAt: 2025-02-09 19:42:59 -0500 (Sun, 09 Feb 2025) EllapsedTime: 28.1 seconds RetCode: 0 Status: OK PackageFile: uSORT_1.33.0.tar.gz PackageFileSize: 2.814 MiB