Package: uSORT Version: 1.33.0 Command: E:\biocbuild\bbs-3.21-bioc\R\bin\R.exe CMD INSTALL uSORT StartedAt: 2025-02-09 15:33:01 -0500 (Sun, 09 Feb 2025) EndedAt: 2025-02-09 15:33:32 -0500 (Sun, 09 Feb 2025) EllapsedTime: 31.4 seconds RetCode: 0 Status: OK