Package: uncoverappLib Version: 1.17.0 Command: /Library/Frameworks/R.framework/Resources/bin/R CMD build --keep-empty-dirs --no-resave-data uncoverappLib StartedAt: 2025-02-04 17:52:27 -0500 (Tue, 04 Feb 2025) EndedAt: 2025-02-04 17:52:59 -0500 (Tue, 04 Feb 2025) EllapsedTime: 32.4 seconds RetCode: 0 Status: OK PackageFile: uncoverappLib_1.17.0.tar.gz PackageFileSize: 3.43 MiB