Package: uncoverappLib Version: 1.17.0 Command: /home/biocbuild/R/R/bin/R CMD check --install=check:uncoverappLib.install-out.txt --library=/home/biocbuild/R/R/site-library --no-vignettes --timings uncoverappLib_1.17.0.tar.gz StartedAt: 2025-01-27 13:45:39 -0000 (Mon, 27 Jan 2025) EndedAt: 2025-01-27 13:55:31 -0000 (Mon, 27 Jan 2025) EllapsedTime: 591.1 seconds RetCode: 0 Status: WARNINGS CheckDir: uncoverappLib.Rcheck Warnings: 5