Package: uncoverappLib Version: 1.17.0 Command: /home/biocbuild/R/R/bin/R CMD INSTALL uncoverappLib StartedAt: 2025-01-29 20:32:13 -0000 (Wed, 29 Jan 2025) EndedAt: 2025-01-29 20:33:30 -0000 (Wed, 29 Jan 2025) EllapsedTime: 77.8 seconds RetCode: 0 Status: OK