Package: uncoverappLib Version: 1.17.0 Command: /Library/Frameworks/R.framework/Resources/bin/R CMD INSTALL uncoverappLib StartedAt: 2025-02-03 15:46:50 -0500 (Mon, 03 Feb 2025) EndedAt: 2025-02-03 15:48:07 -0500 (Mon, 03 Feb 2025) EllapsedTime: 76.5 seconds RetCode: 0 Status: OK