Package: uncoverappLib Version: 1.17.0 Command: /home/biocbuild/bbs-3.21-bioc/R/bin/R CMD check --install=check:uncoverappLib.install-out.txt --library=/home/biocbuild/bbs-3.21-bioc/R/site-library --timings uncoverappLib_1.17.0.tar.gz StartedAt: 2025-02-04 03:42:57 -0500 (Tue, 04 Feb 2025) EndedAt: 2025-02-04 03:49:38 -0500 (Tue, 04 Feb 2025) EllapsedTime: 401.6 seconds RetCode: 0 Status: OK CheckDir: uncoverappLib.Rcheck Warnings: 0