Package: uncoverappLib Version: 1.17.0 Command: /home/biocbuild/bbs-3.21-bioc/R/bin/R CMD INSTALL uncoverappLib StartedAt: 2025-02-03 16:06:45 -0500 (Mon, 03 Feb 2025) EndedAt: 2025-02-03 16:07:44 -0500 (Mon, 03 Feb 2025) EllapsedTime: 58.7 seconds RetCode: 0 Status: OK