Package: uncoverappLib Version: 1.17.0 Command: rm -rf uncoverappLib.buildbin-libdir && mkdir uncoverappLib.buildbin-libdir && E:\biocbuild\bbs-3.21-bioc\R\bin\R.exe CMD INSTALL --build --library=uncoverappLib.buildbin-libdir uncoverappLib_1.17.0.tar.gz StartedAt: 2025-02-04 09:08:45 -0500 (Tue, 04 Feb 2025) EndedAt: 2025-02-04 09:10:10 -0500 (Tue, 04 Feb 2025) EllapsedTime: 85.1 seconds RetCode: 0 Status: OK PackageFile: uncoverappLib_1.17.0.zip PackageFileSize: 2.842 MiB