Package: uncoverappLib Version: 1.17.0 Command: chmod a+r uncoverappLib -R && E:\biocbuild\bbs-3.21-bioc\R\bin\R.exe CMD build --keep-empty-dirs --no-resave-data uncoverappLib StartedAt: 2025-02-03 22:26:06 -0500 (Mon, 03 Feb 2025) EndedAt: 2025-02-03 22:27:46 -0500 (Mon, 03 Feb 2025) EllapsedTime: 99.4 seconds RetCode: 0 Status: OK PackageFile: uncoverappLib_1.17.0.tar.gz PackageFileSize: 3.43 MiB