Package: uncoverappLib Version: 1.17.0 Command: E:\biocbuild\bbs-3.21-bioc\R\bin\R.exe CMD INSTALL uncoverappLib StartedAt: 2025-02-09 16:49:13 -0500 (Sun, 09 Feb 2025) EndedAt: 2025-02-09 16:50:23 -0500 (Sun, 09 Feb 2025) EllapsedTime: 70.2 seconds RetCode: 0 Status: OK