Package: unifiedWMWqPCR Version: 1.43.0 Command: rm -rf unifiedWMWqPCR.buildbin-libdir && mkdir unifiedWMWqPCR.buildbin-libdir && /Users/biocbuild/BBS/utils/build-universal.sh unifiedWMWqPCR_1.43.0.tar.gz /Library/Frameworks/R.framework/Resources/bin/R unifiedWMWqPCR.buildbin-libdir StartedAt: 2025-02-09 22:34:22 -0500 (Sun, 09 Feb 2025) EndedAt: 2025-02-09 22:34:25 -0500 (Sun, 09 Feb 2025) EllapsedTime: 3.1 seconds RetCode: 0 Status: OK PackageFile: unifiedWMWqPCR_1.43.0.tgz PackageFileSize: 734.2 KiB