Package: unifiedWMWqPCR Version: 1.43.0 Command: /home/biocbuild/R/R/bin/R CMD check --install=check:unifiedWMWqPCR.install-out.txt --library=/home/biocbuild/R/R/site-library --no-vignettes --timings unifiedWMWqPCR_1.43.0.tar.gz StartedAt: 2025-01-27 13:46:05 -0000 (Mon, 27 Jan 2025) EndedAt: 2025-01-27 13:46:57 -0000 (Mon, 27 Jan 2025) EllapsedTime: 51.1 seconds RetCode: 0 Status: OK CheckDir: unifiedWMWqPCR.Rcheck Warnings: 0