Package: unifiedWMWqPCR Version: 1.43.0 Command: rm -rf unifiedWMWqPCR.buildbin-libdir && mkdir unifiedWMWqPCR.buildbin-libdir && /Users/biocbuild/BBS/utils/build-universal.sh unifiedWMWqPCR_1.43.0.tar.gz /Library/Frameworks/R.framework/Resources/bin/R unifiedWMWqPCR.buildbin-libdir StartedAt: 2025-02-10 01:21:50 -0500 (Mon, 10 Feb 2025) EndedAt: 2025-02-10 01:21:59 -0500 (Mon, 10 Feb 2025) EllapsedTime: 9.4 seconds RetCode: 0 Status: OK PackageFile: unifiedWMWqPCR_1.43.0.tgz PackageFileSize: 733.5 KiB