Package: unifiedWMWqPCR Version: 1.43.0 Command: /home/biocbuild/bbs-3.21-bioc/R/bin/R CMD INSTALL unifiedWMWqPCR StartedAt: 2025-02-04 15:10:11 -0500 (Tue, 04 Feb 2025) EndedAt: 2025-02-04 15:10:16 -0500 (Tue, 04 Feb 2025) EllapsedTime: 4.8 seconds RetCode: 0 Status: OK