Package: unifiedWMWqPCR Version: 1.43.0 Command: chmod a+r unifiedWMWqPCR -R && E:\biocbuild\bbs-3.21-bioc\R\bin\R.exe CMD build --keep-empty-dirs --no-resave-data unifiedWMWqPCR StartedAt: 2025-02-03 22:26:13 -0500 (Mon, 03 Feb 2025) EndedAt: 2025-02-03 22:26:48 -0500 (Mon, 03 Feb 2025) EllapsedTime: 34.7 seconds RetCode: 0 Status: OK PackageFile: unifiedWMWqPCR_1.43.0.tar.gz PackageFileSize: 502.8 KiB