Package: unifiedWMWqPCR Version: 1.43.0 Command: E:\biocbuild\bbs-3.21-bioc\R\bin\R.exe CMD INSTALL unifiedWMWqPCR StartedAt: 2025-02-03 15:38:07 -0500 (Mon, 03 Feb 2025) EndedAt: 2025-02-03 15:39:38 -0500 (Mon, 03 Feb 2025) EllapsedTime: 91.8 seconds RetCode: 0 Status: OK