Package: universalmotif Version: 1.25.1 Command: /Library/Frameworks/R.framework/Resources/bin/R CMD INSTALL universalmotif StartedAt: 2025-02-09 15:09:47 -0500 (Sun, 09 Feb 2025) EndedAt: 2025-02-09 15:11:56 -0500 (Sun, 09 Feb 2025) EllapsedTime: 129.4 seconds RetCode: 0 Status: OK