Package: universalmotif Version: 1.25.1 Command: /home/biocbuild/bbs-3.21-bioc/R/bin/R CMD INSTALL universalmotif StartedAt: 2025-02-12 15:16:38 -0500 (Wed, 12 Feb 2025) EndedAt: 2025-02-12 15:18:23 -0500 (Wed, 12 Feb 2025) EllapsedTime: 105.0 seconds RetCode: 0 Status: OK