Package: variancePartition Version: 1.37.2 Command: rm -rf variancePartition.buildbin-libdir && mkdir variancePartition.buildbin-libdir && /Users/biocbuild/BBS/utils/build-universal.sh variancePartition_1.37.2.tar.gz /Library/Frameworks/R.framework/Resources/bin/R variancePartition.buildbin-libdir StartedAt: 2025-02-09 22:34:27 -0500 (Sun, 09 Feb 2025) EndedAt: 2025-02-09 22:34:35 -0500 (Sun, 09 Feb 2025) EllapsedTime: 7.1 seconds RetCode: 0 Status: OK PackageFile: variancePartition_1.37.2.tgz PackageFileSize: 5.114 MiB