Package: variancePartition Version: 1.37.2 Command: /Library/Frameworks/R.framework/Resources/bin/R CMD INSTALL variancePartition StartedAt: 2025-02-12 15:08:28 -0500 (Wed, 12 Feb 2025) EndedAt: 2025-02-12 15:08:37 -0500 (Wed, 12 Feb 2025) EllapsedTime: 8.2 seconds RetCode: 0 Status: OK