Package: variancePartition Version: 1.37.2 Command: rm -rf variancePartition.buildbin-libdir && mkdir variancePartition.buildbin-libdir && /Users/biocbuild/BBS/utils/build-universal.sh variancePartition_1.37.2.tar.gz /Library/Frameworks/R.framework/Resources/bin/R variancePartition.buildbin-libdir StartedAt: 2025-02-10 01:21:54 -0500 (Mon, 10 Feb 2025) EndedAt: 2025-02-10 01:22:21 -0500 (Mon, 10 Feb 2025) EllapsedTime: 26.7 seconds RetCode: 0 Status: OK PackageFile: variancePartition_1.37.2.tgz PackageFileSize: 5.114 MiB