Package: variancePartition Version: 1.37.2 Command: /home/biocbuild/bbs-3.21-bioc/R/bin/R CMD build --keep-empty-dirs --no-resave-data variancePartition StartedAt: 2025-02-12 19:38:18 -0500 (Wed, 12 Feb 2025) EndedAt: 2025-02-12 19:48:40 -0500 (Wed, 12 Feb 2025) EllapsedTime: 621.2 seconds RetCode: 0 Status: OK PackageFile: variancePartition_1.37.2.tar.gz PackageFileSize: 4.718 MiB