Package: variancePartition Version: 1.37.2 Command: /home/biocbuild/bbs-3.21-bioc/R/bin/R CMD INSTALL variancePartition StartedAt: 2025-02-09 15:12:00 -0500 (Sun, 09 Feb 2025) EndedAt: 2025-02-09 15:12:19 -0500 (Sun, 09 Feb 2025) EllapsedTime: 19.0 seconds RetCode: 0 Status: OK