Package: variancePartition Version: 1.37.2 Command: rm -rf variancePartition.buildbin-libdir && mkdir variancePartition.buildbin-libdir && E:\biocbuild\bbs-3.21-bioc\R\bin\R.exe CMD INSTALL --build --library=variancePartition.buildbin-libdir variancePartition_1.37.2.tar.gz StartedAt: 2025-02-10 08:55:50 -0500 (Mon, 10 Feb 2025) EndedAt: 2025-02-10 08:59:36 -0500 (Mon, 10 Feb 2025) EllapsedTime: 225.3 seconds RetCode: 0 Status: OK PackageFile: variancePartition_1.37.2.zip PackageFileSize: 4.015 MiB