Package: variancePartition Version: 1.37.2 Command: E:\biocbuild\bbs-3.21-bioc\R\bin\R.exe CMD INSTALL variancePartition StartedAt: 2025-02-12 15:37:15 -0500 (Wed, 12 Feb 2025) EndedAt: 2025-02-12 15:40:53 -0500 (Wed, 12 Feb 2025) EllapsedTime: 218.1 seconds RetCode: 0 Status: OK