Package: velociraptor Version: 1.17.0 Command: /Library/Frameworks/R.framework/Resources/bin/R CMD INSTALL velociraptor StartedAt: 2025-02-12 15:38:39 -0500 (Wed, 12 Feb 2025) EndedAt: 2025-02-12 15:39:07 -0500 (Wed, 12 Feb 2025) EllapsedTime: 28.1 seconds RetCode: 0 Status: OK