Package: velociraptor Version: 1.17.0 Command: /home/biocbuild/bbs-3.21-bioc/R/bin/R CMD build --keep-empty-dirs --no-resave-data velociraptor StartedAt: 2025-02-09 19:43:27 -0500 (Sun, 09 Feb 2025) EndedAt: 2025-02-09 19:46:11 -0500 (Sun, 09 Feb 2025) EllapsedTime: 163.2 seconds RetCode: 0 Status: OK PackageFile: velociraptor_1.17.0.tar.gz PackageFileSize: 815.6 KiB