Package: velociraptor Version: 1.17.0 Command: E:\biocbuild\bbs-3.21-bioc\R\bin\R.exe CMD check --no-multiarch --install=check:velociraptor.install-out.txt --library=E:\biocbuild\bbs-3.21-bioc\R\library --no-vignettes --timings velociraptor_1.17.0.tar.gz StartedAt: 2025-02-10 06:29:31 -0500 (Mon, 10 Feb 2025) EndedAt: 2025-02-10 07:09:31 -0500 (Mon, 10 Feb 2025) EllapsedTime: 2400.0 seconds RetCode: None Status: TIMEOUT CheckDir: velociraptor.Rcheck Warnings: NA