Package: velociraptor Version: 1.17.0 Command: E:\biocbuild\bbs-3.21-bioc\R\bin\R.exe CMD INSTALL velociraptor StartedAt: 2025-02-09 16:23:34 -0500 (Sun, 09 Feb 2025) EndedAt: 2025-02-09 16:24:09 -0500 (Sun, 09 Feb 2025) EllapsedTime: 35.1 seconds RetCode: 0 Status: OK