Package: vidger Version: 1.27.0 Command: /Library/Frameworks/R.framework/Resources/bin/R CMD build --keep-empty-dirs --no-resave-data vidger StartedAt: 2025-02-03 18:29:41 -0500 (Mon, 03 Feb 2025) EndedAt: 2025-02-03 18:30:23 -0500 (Mon, 03 Feb 2025) EllapsedTime: 41.5 seconds RetCode: 0 Status: OK PackageFile: vidger_1.27.0.tar.gz PackageFileSize: 8.711 MiB