Package: vidger Version: 1.27.0 Command: /Library/Frameworks/R.framework/Resources/bin/R CMD check --install=check:vidger.install-out.txt --library=/Library/Frameworks/R.framework/Resources/library --no-vignettes --timings vidger_1.27.0.tar.gz StartedAt: 2025-02-09 21:55:18 -0500 (Sun, 09 Feb 2025) EndedAt: 2025-02-09 21:56:51 -0500 (Sun, 09 Feb 2025) EllapsedTime: 93.1 seconds RetCode: 0 Status: OK CheckDir: vidger.Rcheck Warnings: 0