Package: vidger Version: 1.27.0 Command: rm -rf vidger.buildbin-libdir && mkdir vidger.buildbin-libdir && /Users/biocbuild/BBS/utils/build-universal.sh vidger_1.27.0.tar.gz /Library/Frameworks/R.framework/Resources/bin/R vidger.buildbin-libdir StartedAt: 2025-02-10 01:22:05 -0500 (Mon, 10 Feb 2025) EndedAt: 2025-02-10 01:22:57 -0500 (Mon, 10 Feb 2025) EllapsedTime: 51.8 seconds RetCode: 0 Status: OK PackageFile: vidger_1.27.0.tgz PackageFileSize: 8.943 MiB