Package: vidger Version: 1.27.0 Command: /Library/Frameworks/R.framework/Resources/bin/R CMD build --keep-empty-dirs --no-resave-data vidger StartedAt: 2025-02-09 18:49:25 -0500 (Sun, 09 Feb 2025) EndedAt: 2025-02-09 18:51:28 -0500 (Sun, 09 Feb 2025) EllapsedTime: 123.0 seconds RetCode: 0 Status: OK PackageFile: vidger_1.27.0.tar.gz PackageFileSize: 8.707 MiB