Package: vidger Version: 1.27.0 Command: /Library/Frameworks/R.framework/Resources/bin/R CMD INSTALL vidger StartedAt: 2025-02-09 15:26:03 -0500 (Sun, 09 Feb 2025) EndedAt: 2025-02-09 15:26:50 -0500 (Sun, 09 Feb 2025) EllapsedTime: 46.9 seconds RetCode: 0 Status: OK