Package: vidger Version: 1.27.0 Command: /home/biocbuild/bbs-3.21-bioc/R/bin/R CMD INSTALL vidger StartedAt: 2025-02-09 15:20:50 -0500 (Sun, 09 Feb 2025) EndedAt: 2025-02-09 15:21:24 -0500 (Sun, 09 Feb 2025) EllapsedTime: 34.0 seconds RetCode: 0 Status: OK