Package: vidger Version: 1.27.0 Command: chmod a+r vidger -R && E:\biocbuild\bbs-3.21-bioc\R\bin\R.exe CMD build --keep-empty-dirs --no-resave-data vidger StartedAt: 2025-02-09 22:15:50 -0500 (Sun, 09 Feb 2025) EndedAt: 2025-02-09 22:18:32 -0500 (Sun, 09 Feb 2025) EllapsedTime: 161.4 seconds RetCode: 0 Status: OK PackageFile: vidger_1.27.0.tar.gz PackageFileSize: 5.234 MiB