Package: viper Version: 1.41.0 Command: /home/biocbuild/R/R/bin/R CMD build --keep-empty-dirs --no-resave-data viper StartedAt: 2025-01-28 03:08:26 -0000 (Tue, 28 Jan 2025) EndedAt: 2025-01-28 03:13:33 -0000 (Tue, 28 Jan 2025) EllapsedTime: 307.1 seconds RetCode: 0 Status: OK PackageFile: viper_1.41.0.tar.gz PackageFileSize: 495.8 KiB